BEGIN:VCALENDAR
VERSION:2.0
PRODID:-//Beauty Bay Homeowners Association, Inc. - ECPv6.13.2.1//NONSGML v1.0//EN
CALSCALE:GREGORIAN
METHOD:PUBLISH
X-WR-CALNAME:Beauty Bay Homeowners Association, Inc.
X-ORIGINAL-URL:https://beautybayhoa.com
X-WR-CALDESC:Events for Beauty Bay Homeowners Association, Inc.
REFRESH-INTERVAL;VALUE=DURATION:PT1H
X-Robots-Tag:noindex
X-PUBLISHED-TTL:PT1H
BEGIN:VTIMEZONE
TZID:America/Los_Angeles
BEGIN:DAYLIGHT
TZOFFSETFROM:-0800
TZOFFSETTO:-0700
TZNAME:PDT
DTSTART:20190310T100000
END:DAYLIGHT
BEGIN:STANDARD
TZOFFSETFROM:-0700
TZOFFSETTO:-0800
TZNAME:PST
DTSTART:20191103T090000
END:STANDARD
END:VTIMEZONE
BEGIN:VEVENT
DTSTART;TZID=America/Los_Angeles:20190818T090000
DTEND;TZID=America/Los_Angeles:20190818T223000
DTSTAMP:20260423T090411
CREATED:20190618T171656Z
LAST-MODIFIED:20190618T172655Z
UID:446-1566118800-1566167400@beautybayhoa.com
SUMMARY:Bridges Family Event
DESCRIPTION:
URL:https://beautybayhoa.com/event/bridges-family-event-2/
END:VEVENT
BEGIN:VEVENT
DTSTART;TZID=America/Los_Angeles:20190817T143000
DTEND;TZID=America/Los_Angeles:20190817T223000
DTSTAMP:20260423T090411
CREATED:20190618T171606Z
LAST-MODIFIED:20190704T205458Z
UID:444-1566052200-1566081000@beautybayhoa.com
SUMMARY:Bridges Family Event
DESCRIPTION:
URL:https://beautybayhoa.com/event/bridges-family-event/
END:VEVENT
BEGIN:VEVENT
DTSTART;TZID=America/Los_Angeles:20190817T123000
DTEND;TZID=America/Los_Angeles:20190817T140000
DTSTAMP:20260423T090411
CREATED:20190619T015111Z
LAST-MODIFIED:20190619T015111Z
UID:467-1566045000-1566050400@beautybayhoa.com
SUMMARY:Scenic Bay Water System Association
DESCRIPTION:
URL:https://beautybayhoa.com/event/scenic-bay-water-system-association/
END:VEVENT
BEGIN:VEVENT
DTSTART;TZID=America/Los_Angeles:20190817T100000
DTEND;TZID=America/Los_Angeles:20190817T120000
DTSTAMP:20260423T090411
CREATED:20190618T162814Z
LAST-MODIFIED:20190618T165404Z
UID:435-1566036000-1566043200@beautybayhoa.com
SUMMARY:Annual Homeowners Meeting
DESCRIPTION:
URL:https://beautybayhoa.com/event/annual-homeowners-meeting/
END:VEVENT
BEGIN:VEVENT
DTSTART;TZID=America/Los_Angeles:20190717T133000
DTEND;TZID=America/Los_Angeles:20190717T150000
DTSTAMP:20260423T090411
CREATED:20190618T172343Z
LAST-MODIFIED:20190618T172343Z
UID:450-1563370200-1563375600@beautybayhoa.com
SUMMARY:Board of Directors Meeting
DESCRIPTION:
URL:https://beautybayhoa.com/event/board-of-directors-meeting/
LOCATION:CDA Library
END:VEVENT
BEGIN:VEVENT
DTSTART;TZID=America/Los_Angeles:20190706T090000
DTEND;TZID=America/Los_Angeles:20190706T223000
DTSTAMP:20260423T090411
CREATED:20190618T171247Z
LAST-MODIFIED:20190618T172743Z
UID:442-1562403600-1562452200@beautybayhoa.com
SUMMARY:Nowoj Family Event
DESCRIPTION:
URL:https://beautybayhoa.com/event/nowoj-family-event/
END:VEVENT
BEGIN:VEVENT
DTSTART;TZID=America/Los_Angeles:20190622T113000
DTEND;TZID=America/Los_Angeles:20190622T143000
DTSTAMP:20260423T090411
CREATED:20190619T185626Z
LAST-MODIFIED:20190619T185626Z
UID:469-1561203000-1561213800@beautybayhoa.com
SUMMARY:Service for Floyd Flowers
DESCRIPTION:Funeral Service will be held at English Funeral Home\, 1133 N 4th St.\, Coeur d’Alene\, ID 83814.  Reception to follow.
URL:https://beautybayhoa.com/event/service-for-floyd-flowers/
END:VEVENT
END:VCALENDAR